BEGIN:VCALENDAR
VERSION:2.0
PRODID:$page->getSiteName()
X-PUBLISHED-TTL:P1W
BEGIN:VEVENT
UID:69e86693ecc8c
DTSTART;VALUE=DATE:20180412
SEQUENCE:0
TRANSP:OPAQUE
URL:https://www.iislafe.es/en/whats-on/events/148/sesion-de-la-unidad-de-ge
 netica-curso-2017-2018-enach-neurodegeneracion-con-acumulacion-cerebral-de
 -hierro
LOCATION:Auditorium planta baja Torre A
SUMMARY:Sesión de la Unidad de Genética Curso 2017-2018. ENACH: Neurodege
 neración con Acumulación Cerebral de Hierro
CLASS:PUBLIC
DESCRIPTION:  Ponente: Dra. Carmen Espinós Group Leader - Miguel Servet R
 esearcher Program of Rare and Genetics Diseases Centro de Investigación P
 ríncipe Felipe 
 
X-MICROSOFT-CDO-ALLDAYEVENT:TRUE
DTSTAMP:20260422T081131Z
END:VEVENT
END:VCALENDAR