BEGIN:VCALENDAR
VERSION:2.0
PRODID:$page->getSiteName()
X-PUBLISHED-TTL:P1W
BEGIN:VEVENT
UID:69e6bd142e00b
DTSTART;VALUE=DATE:20190328
SEQUENCE:0
TRANSP:OPAQUE
URL:https://www.iislafe.es/en/whats-on/events/236/presentacion-plan-estrate
 gico-del-iis-la-fe-2019-2023
LOCATION:Auditorium de la planta baja de la torre A
SUMMARY:Presentación Plan Estratégico del IIS La Fe 2019-2023
CLASS:PUBLIC
DESCRIPTION:El director científico del IIS La Fe\, doctor Máximo Vento\, 
 presentará el nuevo Plan estratégico del IIS La Fe 2019-2023
X-MICROSOFT-CDO-ALLDAYEVENT:TRUE
DTSTAMP:20260421T015604Z
END:VEVENT
END:VCALENDAR