BEGIN:VCALENDAR
VERSION:2.0
PRODID:$page->getSiteName()
X-PUBLISHED-TTL:P1W
BEGIN:VEVENT
UID:69e9bf9bb4648
DTSTART;VALUE=DATE:20191128
SEQUENCE:0
TRANSP:OPAQUE
URL:https://www.iislafe.es/en/whats-on/events/267/curso-preservacion-de-fer
 tilidad
LOCATION:Aula H004. Torre H. Planta Baja. Hospital U. i. P. La Fe
SUMMARY:Curso Preservación de Fertilidad
CLASS:PUBLIC
DESCRIPTION:Dirigido a: Oncólogos\, Hematólogos\, Reumatólogos y Ginecó
 logos especialista en Reproducción Asistida.

Inscripciones: http://vale
 ncia.congresoseci.com/cursofertilidad/inscripciones
X-MICROSOFT-CDO-ALLDAYEVENT:TRUE
DTSTAMP:20260423T084339Z
END:VEVENT
END:VCALENDAR