BEGIN:VCALENDAR
VERSION:2.0
PRODID:$page->getSiteName()
X-PUBLISHED-TTL:P1W
BEGIN:VEVENT
UID:69e9cf9bc9d52
DTSTART;VALUE=DATE:20191113
SEQUENCE:0
TRANSP:OPAQUE
DTEND;VALUE=DATE:20191114
URL:https://www.iislafe.es/en/whats-on/events/284/2o-curso-practico-de-ecoc
 ardiografia-3d-huplafe
LOCATION:Servicio de Cardiología. HUPLAFE
SUMMARY:2º Curso Práctico de Ecocardiografía 3D HUPLAFE
CLASS:PUBLIC
X-MICROSOFT-CDO-ALLDAYEVENT:TRUE
DTSTAMP:20260423T095155Z
END:VEVENT
END:VCALENDAR