BEGIN:VCALENDAR
VERSION:2.0
PRODID:$page->getSiteName()
X-PUBLISHED-TTL:P1W
BEGIN:VEVENT
UID:69e9ab2927778
DTSTART;VALUE=DATE:20191212
SEQUENCE:0
TRANSP:OPAQUE
URL:https://www.iislafe.es/en/whats-on/events/286/soluciones-tecnologicas-n
 uevas-oportunidades-de-mercado-en-la-comunitat-valenciana
LOCATION:ADEIT Plaza Virgen de la Paz\, 3 Valencia
SUMMARY:Soluciones Tecnológicas: Nuevas oportunidades  de mercado en la Co
 munitat Valenciana
CLASS:PUBLIC
DESCRIPTION:El objetivo de la Jornada es\, en el ámbito de la Comunitat Va
 lenciana\, presentar retos y oportunidades de innovación por parte de emp
 resas tractoras\, así como capacidades y tecnologías innovadoras desarro
 lladas por los centros de I+D+i más punteros\, toto ello bajo el paraguas
  de la Agencia Valenciana de Innovación

Finalidad de la jornada:


Conoc
 er\, de primera mano\, desarrollos y retos de futuro de empresas tractoras
  innovadoras
Acceso\, en un único evento\, a tecnologías punteras y mult
 isectoriales desarrolladas por los agentes de I+D
Crear sinergias con el t
 ejido empresarial para desarrollar innovaciones

X-MICROSOFT-CDO-ALLDAYEVENT:TRUE
DTSTAMP:20260423T071625Z
END:VEVENT
END:VCALENDAR