BEGIN:VCALENDAR
VERSION:2.0
PRODID:$page->getSiteName()
X-PUBLISHED-TTL:P1W
BEGIN:VEVENT
UID:69e9ab33ade6d
DTSTART;VALUE=DATE:20200121
SEQUENCE:0
TRANSP:OPAQUE
URL:https://www.iislafe.es/en/whats-on/events/290/ii-memorial-nacho-barbera
LOCATION:Auditorium de la planta baja de la torre A
SUMMARY:II Memorial Nacho Barbera
CLASS:PUBLIC
X-MICROSOFT-CDO-ALLDAYEVENT:TRUE
DTSTAMP:20260423T071635Z
END:VEVENT
END:VCALENDAR