BEGIN:VCALENDAR
VERSION:2.0
PRODID:$page->getSiteName()
X-PUBLISHED-TTL:P1W
BEGIN:VEVENT
UID:69e98a50b551b
DTSTART;VALUE=DATE:20200114
SEQUENCE:0
TRANSP:OPAQUE
URL:https://www.iislafe.es/en/whats-on/events/292/therapeutic-approaches-an
 d-development-of-genomic-diagnostic-tools-for-usher-syndrome
LOCATION:Auditorium de la planta baja de la torre A
SUMMARY:Therapeutic approaches and development of genomic diagnostic tools 
 for Usher syndrome
CLASS:PUBLIC
DESCRIPTION:Doctoranda: Carla Fuster García
X-MICROSOFT-CDO-ALLDAYEVENT:TRUE
DTSTAMP:20260423T045616Z
END:VEVENT
END:VCALENDAR