BEGIN:VCALENDAR
VERSION:2.0
PRODID:$page->getSiteName()
X-PUBLISHED-TTL:P1W
BEGIN:VEVENT
UID:69e912b35748f
DTSTART;VALUE=DATE:20210422
SEQUENCE:0
TRANSP:OPAQUE
DTEND;VALUE=DATE:20210423
URL:https://www.iislafe.es/en/whats-on/events/314/v-encuentro-de-investigad
 ores-en-cancer-de-la-comunidad-valenciana-ciutat-d-alcoi
LOCATION:IVAM ALCOI
SUMMARY:V Encuentro de Investigadores en Cáncer de la Comunidad Valenciana
  Ciutat D'Alcoi
CLASS:PUBLIC
DESCRIPTION:Toda la información y programa del evento se encuentra en la 
 documentación adjunta. 
X-MICROSOFT-CDO-ALLDAYEVENT:TRUE
DTSTAMP:20260422T202555Z
END:VEVENT
END:VCALENDAR