BEGIN:VCALENDAR
VERSION:2.0
PRODID:$page->getSiteName()
X-PUBLISHED-TTL:P1W
BEGIN:VEVENT
UID:69e6eb1bb1acd
DTSTART;VALUE=DATE:20210706
SEQUENCE:0
TRANSP:OPAQUE
URL:https://www.iislafe.es/en/whats-on/events/318/webinar-innotransfer-enfe
 rmedades-cronicas-tendencias-desafios-i-d
LOCATION:Online
SUMMARY:Webinar Innotransfer: Enfermedades crónicas: tendencias\, desafío
 s I+D
CLASS:PUBLIC
DESCRIPTION:El programa de innovación abierta Innotransfer lanza en esta t
 ercera edición de 2021 una serie de webinars específicos sobre diversos 
 ámbitos de desarrollo en el sector Salud. Estos encuentros técnicos pret
 enden dar visibilidad a oportunidades de innovación\, detectadas por el P
 arque científico de la universidad Miguel Hernández de Elche\, en difere
 ntes áreas de salud\, como enfermedades crónicas\, optimización de los 
 procesos quirúrgicos y prevención de infecciones nosocomiales\, las cual
 es están alineadas con las prioridades de la Agencia Valenciana de Innova
 ción (AVI).
X-MICROSOFT-CDO-ALLDAYEVENT:TRUE
DTSTAMP:20260421T051227Z
END:VEVENT
END:VCALENDAR