BEGIN:VCALENDAR
VERSION:2.0
PRODID:$page->getSiteName()
X-PUBLISHED-TTL:P1W
BEGIN:VEVENT
UID:69e5e4af9a2a6
DTSTART;VALUE=DATE:20220405
SEQUENCE:0
TRANSP:OPAQUE
URL:https://www.iislafe.es/en/whats-on/events/343/liderazgo-e-investigacion
 -en-cuidados
LOCATION:Online
SUMMARY:Liderazgo e investigación en cuidados
CLASS:PUBLIC
DESCRIPTION:Síguelo en en directo.
X-MICROSOFT-CDO-ALLDAYEVENT:TRUE
DTSTAMP:20260420T103247Z
END:VEVENT
END:VCALENDAR