BEGIN:VCALENDAR
VERSION:2.0
PRODID:$page->getSiteName()
X-PUBLISHED-TTL:P1W
BEGIN:VEVENT
UID:69e4e7bd63d19
DTSTART;VALUE=DATE:20230221
SEQUENCE:0
TRANSP:OPAQUE
URL:https://www.iislafe.es/en/whats-on/events/394/esferocitosis-hereditaria
 -en-ninos-analisis-de-las-caracteristicas-clinicas-analiticas-terapeuticas
 -y-evolutivas-evaluacion-de-nuevas-tecnicas-diagnosticas-e-investigacion-d
 e-factores-protromboticos-postesplenectomia
LOCATION:Auditórium
SUMMARY:Esferocitosis hereditaria en niños: análisis de las característi
 cas clínicas\, analíticas\, terapéuticas y evolutivas. Evaluación de n
 uevas técnicas diagnósticas e investigación de factores protrombóticos
  postesplenectomía.
CLASS:PUBLIC
DESCRIPTION:Doctoranda: Carmen Paola García Blanes

Directores: María Á
 ngeles Dasí\, Juana Vallés\, Antonio Moscardó
X-MICROSOFT-CDO-ALLDAYEVENT:TRUE
DTSTAMP:20260419T163333Z
END:VEVENT
END:VCALENDAR