BEGIN:VCALENDAR
VERSION:2.0
PRODID:$page->getSiteName()
X-PUBLISHED-TTL:P1W
BEGIN:VEVENT
UID:69e516fd79e0b
DTSTART;VALUE=DATE:20230301
SEQUENCE:0
TRANSP:OPAQUE
URL:https://www.iislafe.es/en/whats-on/events/395/estudio-de-la-delecion-es
 pontanea-de-los-exones-45-55-en-el-gen-dmd-y-su-aplicacion-como-modelo-de-
 terapia-genica-analisis-de-factores-condicionantes-del-fenotipo-y-estudio-
 del-modelo-celular
LOCATION:Auditórium
SUMMARY:Estudio de la deleción espontánea de los exones 45-55 en el gen D
 MD y su aplicación como modelo de terapia génica. Análisis de factores 
 condicionantes del fenotipo y estudio del modelo celular
CLASS:PUBLIC
DESCRIPTION:Doctorando: Javier Poyatos García

Grupo de investigación en 
 Patología Muscular y Ataxias

Directores: Juan Jesús Vílchez\, Teresa S
 evilla\, Rafael Vázquez
X-MICROSOFT-CDO-ALLDAYEVENT:TRUE
DTSTAMP:20260419T195509Z
END:VEVENT
END:VCALENDAR