BEGIN:VCALENDAR
VERSION:2.0
PRODID:$page->getSiteName()
X-PUBLISHED-TTL:P1W
BEGIN:VEVENT
UID:69e87f8d4fe5f
DTSTART;VALUE=DATE:20230403
SEQUENCE:0
TRANSP:OPAQUE
URL:https://www.iislafe.es/en/whats-on/events/396/lh-administration-as-a-po
 tential-strategy-for-ovarian-protection-and-female-preservation-against-hi
 ghly-gonadotoxic-chemotherapy
LOCATION:Auditórium
SUMMARY:LH administration as a potential strategy for ovarian protection an
 d female preservation against highly gonadotoxic chemotherapy
CLASS:PUBLIC
DESCRIPTION:
Doctorando: Luis Miguel del Castillo Lima
Grupo de Medicina R
 eproductiva - Fundación IVI
Directores: Antonio Pellicer Martínez y Soni
 a Herraiz Raya
Opción a mención internacional
Programa de doctorado: Bio
 medicina y Biotecnología (UV)

X-MICROSOFT-CDO-ALLDAYEVENT:TRUE
DTSTAMP:20260422T095805Z
END:VEVENT
END:VCALENDAR