BEGIN:VCALENDAR
VERSION:2.0
PRODID:$page->getSiteName()
X-PUBLISHED-TTL:P1W
BEGIN:VEVENT
UID:69e6bde308e63
DTSTART;VALUE=DATE:20230519
SEQUENCE:0
TRANSP:OPAQUE
URL:https://www.iislafe.es/en/whats-on/events/411/characterization-of-the-m
 etabolic-profile-and-identification-of-potential-therapeutic-targets-in-ad
 vanced-prostate-cancer-patients
LOCATION:Auditórium
SUMMARY:Characterization of the metabolic profile and identification of pot
 ential therapeutic targets in advanced prostate cancer patients
CLASS:PUBLIC
X-MICROSOFT-CDO-ALLDAYEVENT:TRUE
DTSTAMP:20260421T015931Z
END:VEVENT
END:VCALENDAR