BEGIN:VCALENDAR
VERSION:2.0
PRODID:$page->getSiteName()
X-PUBLISHED-TTL:P1W
BEGIN:VEVENT
UID:69e8561a806c5
DTSTART;VALUE=DATE:20231018
SEQUENCE:0
TRANSP:OPAQUE
URL:https://www.iislafe.es/en/whats-on/events/430/miercoles-innovadores-202
 3-iii-regulacion-de-productos-sanitarios-en-espana-requisitos-para-entidad
 es-sanitarias
LOCATION:Online
SUMMARY:Miércoles Innovadores 2023 (III). Regulación de productos sanitar
 ios en España\; requisitos para entidades sanitarias
CLASS:PUBLIC
DESCRIPTION:Episkey Medical S.L.
Isabel López

INSCRIPCIÓN OBLIGATORIA
X-MICROSOFT-CDO-ALLDAYEVENT:TRUE
DTSTAMP:20260422T070114Z
END:VEVENT
END:VCALENDAR