BEGIN:VCALENDAR
VERSION:2.0
PRODID:$page->getSiteName()
X-PUBLISHED-TTL:P1W
BEGIN:VEVENT
UID:69ea77da77a90
DTSTART;VALUE=DATE:20230928
SEQUENCE:0
TRANSP:OPAQUE
URL:https://www.iislafe.es/en/whats-on/events/439/escribiendo-una-nueva-his
 toria-para-la-ame-cambio-de-paradigma-en-el-tratamiento-y-diagnostico
LOCATION:Auditórium
SUMMARY:Escribiendo una nueva historia para la AME: cambio de paradigma en 
 el tratamiento y diagnóstico
CLASS:PUBLIC
DESCRIPTION:Jornada dirigida a pacientes y profesionales

AFORO LIMITADO

I
 NSCRIPCIONES
X-MICROSOFT-CDO-ALLDAYEVENT:TRUE
DTSTAMP:20260423T214946Z
END:VEVENT
END:VCALENDAR