BEGIN:VCALENDAR
VERSION:2.0
PRODID:$page->getSiteName()
X-PUBLISHED-TTL:P1W
BEGIN:VEVENT
UID:69eafb40c4930
DTSTART;VALUE=DATE:20240607
SEQUENCE:0
TRANSP:OPAQUE
URL:https://www.iislafe.es/en/whats-on/events/479/in-vitro-photobehavior-of
 -tyrosine-kinase-inhibitors-in-solution-and-within-skin-cells
LOCATION:Auditórium
SUMMARY:In Vitro Photobehavior of Tyrosine Kinase Inhibitors in Solution an
 d within Skin Cells
CLASS:PUBLIC
DESCRIPTION:Doctoranda: Meryem El Ouardi
Dirigida por: Prof. Miguel Ángel 
 Miranda Alonso y Dra. Inmaculada Andreu Ros

Unidad Mixta de Investigació
 n en Mecanismos Moleculares de las Reacciones Adversas de Fármacos
X-MICROSOFT-CDO-ALLDAYEVENT:TRUE
DTSTAMP:20260424T071024Z
END:VEVENT
END:VCALENDAR