BEGIN:VCALENDAR
VERSION:2.0
PRODID:$page->getSiteName()
X-PUBLISHED-TTL:P1W
BEGIN:VEVENT
UID:69eaea43e711f
DTSTART;VALUE=DATE:20240628
SEQUENCE:0
TRANSP:OPAQUE
URL:https://www.iislafe.es/en/whats-on/events/486/evaluacion-de-la-mejora-e
 n-los-resultados-clinicos-en-varones-con-oligoespermia-severa-fallos-de-ic
 si-y-elevada-fragmentacion-de-adn-mediante-el-uso-de-espermatozoides-testi
 culares
LOCATION:Auditórium
SUMMARY:Evaluación de la mejora en los resultados clínicos en varones con
  oligoespermia severa\, fallos de ICSI y elevada fragmentación de ADN med
 iante el uso de espermatozoides testiculares
CLASS:PUBLIC
DESCRIPTION:Doctoranda: Irene Hervás Herrero
Dirigida por: Dr. Nicolás Ga
 rrido Puchalt y Dra. Rocío Rivera Egea

Grupo de Investigación en Infert
 ilidad Masculina
X-MICROSOFT-CDO-ALLDAYEVENT:TRUE
DTSTAMP:20260424T055755Z
END:VEVENT
END:VCALENDAR