BEGIN:VCALENDAR
VERSION:2.0
PRODID:$page->getSiteName()
X-PUBLISHED-TTL:P1W
BEGIN:VEVENT
UID:69ed1b5bcaeea
DTSTART;VALUE=DATE:20241213
SEQUENCE:0
TRANSP:OPAQUE
URL:https://www.iislafe.es/en/whats-on/events/517/identification-of-new-cir
 culating-biomarkers-for-the-characterization-and-non-invasive-diagnosis-of
 -cardiac-rejection
LOCATION:Auditórium
SUMMARY:Identification of new circulating biomarkers for the characterizati
 on and non-invasive diagnosis of cardiac rejection
CLASS:PUBLIC
DESCRIPTION:Doctoranda: Lorena Perez Carrillo
Dirigida por: Dra. Esther Ros
 elló Lletí\, Dra. Estefanía Tarazón Melguizo y Dr. Manuel Portolés Sa
 nz

Grupo de Investigación Clínica y Traslacional en Cardiología
X-MICROSOFT-CDO-ALLDAYEVENT:TRUE
DTSTAMP:20260425T215155Z
END:VEVENT
END:VCALENDAR