BEGIN:VCALENDAR
VERSION:2.0
PRODID:$page->getSiteName()
X-PUBLISHED-TTL:P1W
BEGIN:VEVENT
UID:69e5ab3402a26
DTSTART;VALUE=DATE:20250324
SEQUENCE:0
TRANSP:OPAQUE
URL:https://www.iislafe.es/en/whats-on/events/526/identificacion-y-caracter
 izacion-de-variantes-de-splicing-en-pacientes-con-leucemia-mieloide-aguda
LOCATION:Auditórium
SUMMARY:Identificación y caracterización de variantes de splicing en paci
 entes con Leucemia Mieloide Aguda
CLASS:PUBLIC
DESCRIPTION:Doctoranda: Mireya Morote Faubel
Dirigida por: Dr. José Cerver
 a\, Dr. Alessandro Liquori y Dra. Mariam Ibáñez

Grupo de investigación
  en Hematología y Hemoterapia
X-MICROSOFT-CDO-ALLDAYEVENT:TRUE
DTSTAMP:20260420T062732Z
END:VEVENT
END:VCALENDAR