BEGIN:VCALENDAR
VERSION:2.0
PRODID:$page->getSiteName()
X-PUBLISHED-TTL:P1W
BEGIN:VEVENT
UID:69e741776fbc0
DTSTART;VALUE=DATE:20250210
SEQUENCE:0
TRANSP:OPAQUE
DTEND;VALUE=DATE:20250211
URL:https://www.iislafe.es/en/whats-on/events/528/10-11-febreuary-uprise-ki
 ck-off-meeting
LOCATION:Hospital Universitari i Politècnic La Fe
SUMMARY:10-11 Febreuary: UPRISE kick-off meeting
CLASS:PUBLIC
DESCRIPTION:Unravelling ultrafine particulate matter and micro nano plastic
 &#39\;s mechanisms of impact on fetal health
X-MICROSOFT-CDO-ALLDAYEVENT:TRUE
DTSTAMP:20260421T112055Z
END:VEVENT
END:VCALENDAR