BEGIN:VCALENDAR
VERSION:2.0
PRODID:$page->getSiteName()
X-PUBLISHED-TTL:P1W
BEGIN:VEVENT
UID:69eb828195b8b
DTSTART;VALUE=DATE:20250225
SEQUENCE:0
TRANSP:OPAQUE
URL:https://www.iislafe.es/en/whats-on/events/537/martes-investigadores-202
 5-busquedas-bibliograficas
LOCATION:Hospital Universitari i Politècnic La Fe | Edificio Docencia | Sa
 la H002-003
SUMMARY:Martes Investigadores 2025: Búsquedas Bibliográficas
CLASS:PUBLIC
DESCRIPTION:La investigación en enfermería es un pilar fundamental para e
 l avance de los cuidados basados en la evidencia\, permitiendo mejorar los
  resultados en salud y la calidad de la atención sanitaria. Este plan de 
 formación interna está diseñado en línea con el Plan Estratégico de I
 nvestigación Enfermera del Hospital La Fe - IIS La Fe y la Estrategia de 
 Investigación en Cuidados de Enfermería de la Comunidad Valenciana\, con
  el objetivo de fomentar la formación y el desarrollo de competencias inv
 estigadoras entre los profesionales de enfermería.

Este taller de martes
  investigadores se centra en las Búsquedas Bibliográficas.

Una formaci
 ón impartida por la Unidad de Cuidados e Investigación.

Inscripciones
X-MICROSOFT-CDO-ALLDAYEVENT:TRUE
DTSTAMP:20260424T164729Z
END:VEVENT
END:VCALENDAR