BEGIN:VCALENDAR
VERSION:2.0
PRODID:$page->getSiteName()
X-PUBLISHED-TTL:P1W
BEGIN:VEVENT
UID:69e5749add8b6
DTSTART;VALUE=DATE:20260212
SEQUENCE:0
TRANSP:OPAQUE
URL:https://www.iislafe.es/en/whats-on/events/617/cuenta-ciencia-2026-comun
 icar-y-divulgar-ciencia-en-la-era-de-la-desinformacion
LOCATION:Auditorio IIS La Fe (torre A)
SUMMARY:CUENTA CIENCIA 2026: Comunicar y divulgar ciencia en la era de la d
 esinformación
CLASS:PUBLIC
DESCRIPTION:La jornada CUENTA CIENCIA abordará los retos de la comunicaci
 ón y la divulgación científica en un contexto de sobreinformación\, bu
 los y pseudociencia. A lo largo de la mañana\, expertos en neurociencia\,
  verificación\, periodismo científico\, divulgación y ciencia abierta r
 eflexionarán sobre cómo detectar y frenar la desinformación científica
 .
X-MICROSOFT-CDO-ALLDAYEVENT:TRUE
DTSTAMP:20260420T023434Z
END:VEVENT
END:VCALENDAR