BEGIN:VCALENDAR
VERSION:2.0
PRODID:$page->getSiteName()
X-PUBLISHED-TTL:P1W
BEGIN:VEVENT
UID:69ea742977eae
DTSTART;VALUE=DATE:20260310
SEQUENCE:0
TRANSP:OPAQUE
URL:https://www.iislafe.es/en/whats-on/events/626/netosis-y-dano-endotelial
 -en-la-neumonia-adquirida-en-la-comunidad-covid-19-y-no-covid-19
LOCATION:Auditórium
SUMMARY:NETosis y daño endotelial en la neumonía adquirida en la comunida
 d: COVID-19 y no COVID-19
CLASS:PUBLIC
DESCRIPTION:Doctoranda
Paula González Jiménez

Director de la tesis
Dr. R
 aúl Méndez Ocaña
Dr. Luis Vicente Martínez Dolz

Grupo de Investigaci
 ón en Infecciones Respiratorias
X-MICROSOFT-CDO-ALLDAYEVENT:TRUE
DTSTAMP:20260423T213401Z
END:VEVENT
END:VCALENDAR