BEGIN:VCALENDAR
VERSION:2.0
PRODID:$page->getSiteName()
X-PUBLISHED-TTL:P1W
BEGIN:VEVENT
UID:69e54e4aee0e7
DTSTART;VALUE=DATE:20260428
SEQUENCE:0
TRANSP:OPAQUE
URL:https://www.iislafe.es/en/whats-on/events/648/integrated-phenotypic-gen
 omic-and-transcriptomic-approaches-for-the-precision-diagnosis-of-primary-
 ciliary-dyskinesia
LOCATION:Auditorium
SUMMARY:Integrated Phenotypic\, Genomic\, and Transcriptomic Approaches for
  the Precision Diagnosis of Primary Ciliary Dyskinesia
CLASS:PUBLIC
DESCRIPTION:Doctoranda
Lidón Carretero Vilarroig

Directores de la tesis:

 Dra. Teresa Jaijo
Dr. Miguel Armengot

Grupo de Investigación en Biomedi
 cina Molecular\, Celular y Genómica
X-MICROSOFT-CDO-ALLDAYEVENT:TRUE
DTSTAMP:20260419T235106Z
END:VEVENT
END:VCALENDAR