BEGIN:VCALENDAR
VERSION:2.0
PRODID:$page->getSiteName()
X-PUBLISHED-TTL:P1W
BEGIN:VEVENT
UID:69e901885428c
DTSTART;VALUE=DATE:20260509
SEQUENCE:0
TRANSP:OPAQUE
URL:https://www.iislafe.es/en/whats-on/events/649/iv-jornada-de-cardiopatia
 s-familiares-y-muerte-subita
LOCATION:IIS La Fe
SUMMARY:IV Jornada de cardiopatías familiares y muerte súbita
CLASS:PUBLIC
DESCRIPTION:El IIS La Fe organiza una nueva edición de las Jornadas de Car
 diopatías Familiares y Muerte Súbita\, un espacio para compartir avances
  científicos y fomentar la colaboración en el ámbito de la salud cardio
 vascular.

INSCRIPCIONES



Organizan: IIS La Fe/Hospital La Fe (Valencia)
  y Hospital Universitario Virgen de la Arrixaca (Murcia)
X-MICROSOFT-CDO-ALLDAYEVENT:TRUE
DTSTAMP:20260422T191240Z
END:VEVENT
END:VCALENDAR