BEGIN:VCALENDAR
VERSION:2.0
PRODID:$page->getSiteName()
X-PUBLISHED-TTL:P1W
BEGIN:VEVENT
UID:69ed66f510a1d
DTSTART;VALUE=DATE:20160614
SEQUENCE:0
TRANSP:OPAQUE
URL:https://www.iislafe.es/en/whats-on/events/69/medicina-del-s-xxi-para-el
 -cancer
LOCATION:Aditorium del IIS La Fe\, (Torre A)
SUMMARY:Medicina del S.XXI para el Cáncer
CLASS:PUBLIC
DESCRIPTION:El IIS La Fe organiza una nueva edición del ciclo Tu Hospital 
 Investiga para Ti\, con la que se busca acercar la investigación a los pa
 cientes y familiares. La primera jornada estará dedicada a la \"Medicina 
 de S.XXI para el cáncer\".
X-MICROSOFT-CDO-ALLDAYEVENT:TRUE
DTSTAMP:20260426T031429Z
END:VEVENT
END:VCALENDAR