BEGIN:VCALENDAR
VERSION:2.0
PRODID:$page->getSiteName()
X-PUBLISHED-TTL:P1W
BEGIN:VEVENT
UID:69ed65cbb4666
DTSTART;VALUE=DATE:20160621
SEQUENCE:0
TRANSP:OPAQUE
URL:https://www.iislafe.es/en/whats-on/events/72/jornada-hacia-un-envejecim
 iento-activo-y-saludable
LOCATION:Auditorium Torre A
SUMMARY:Jornada hacia un envejecimiento activo y saludable
CLASS:PUBLIC
DESCRIPTION:El IIS La Fe acoge la Jornada &#39\;Hacia un envejecimiento act
 ivo y saludable&#39\; que tendrá lugar el próximo 21 de Junio\, organiza
 da por Instituto de Investigación Sanitaria La Fe y el Instituto ITACA (G
 rupo SABIEN) de la Universtat Politècnica de València.
X-MICROSOFT-CDO-ALLDAYEVENT:TRUE
DTSTAMP:20260426T030931Z
END:VEVENT
END:VCALENDAR