BEGIN:VCALENDAR
VERSION:2.0
PRODID:$page->getSiteName()
X-PUBLISHED-TTL:P1W
BEGIN:VEVENT
UID:69ea192b8981a
DTSTART;VALUE=DATE:20160712
SEQUENCE:0
TRANSP:OPAQUE
URL:https://www.iislafe.es/en/whats-on/events/79/tu-hospital-investiga-para
 -ti-investigacion-en-enfermedad-inflamatoria-intestinal
LOCATION:Auditórium IIS La Fe-Torre A
SUMMARY:Tu Hospital investiga para ti: Investigación en Enfermedad Inflama
 toria Intestinal
CLASS:PUBLIC
DESCRIPTION:Investigadores y pacientes abordan la Enfermedad Inflamatoria I
 ntestinal en una nueva jornada del ciclo de conferencias \"Tu Hospital Inv
 estiga para ti\". La jornada está organizada por las Dras. Belén Beltrá
 n\, coordinadora de Investigación Traslacional en el Grupo de Investigaci
 ón en Enfermedad Inflamatoria Intestinal y Pilar Nos\, Directora del Area
  de Enfermedades Digestivas.
X-MICROSOFT-CDO-ALLDAYEVENT:TRUE
DTSTAMP:20260423T150547Z
END:VEVENT
END:VCALENDAR