BEGIN:VCALENDAR
VERSION:2.0
PRODID:$page->getSiteName()
X-PUBLISHED-TTL:P1W
BEGIN:VEVENT
UID:69e812980c407
DTSTART;VALUE=DATE:20180321
SEQUENCE:0
TRANSP:OPAQUE
URL:https://www.iislafe.es/es/sociedad/eventos/136/del-articulo-cientifico-
 a-la-noticia
LOCATION:Auditórium
SUMMARY:Del artículo científico a la noticia
CLASS:PUBLIC
DESCRIPTION:Charla de Pampa García Molina\, redactora jefa de la Agencia S
 INC.
X-MICROSOFT-CDO-ALLDAYEVENT:TRUE
DTSTAMP:20260422T021312Z
END:VEVENT
END:VCALENDAR