BEGIN:VCALENDAR
VERSION:2.0
PRODID:$page->getSiteName()
X-PUBLISHED-TTL:P1W
BEGIN:VEVENT
UID:69e83b7b030e5
DTSTART;VALUE=DATE:20180308
SEQUENCE:0
TRANSP:OPAQUE
DTEND;VALUE=DATE:20180310
URL:https://www.iislafe.es/es/sociedad/eventos/137/espghan-masterclass-on-c
 oeliac-disease
LOCATION:Auditórium
SUMMARY:ESPGHAN Masterclass on Coeliac Disease
CLASS:PUBLIC
DESCRIPTION:The aim of the ESPGHAN MasterClass on Coeliac Disease is to fil
 l the gap of knowledge in Coeliac Disease (CD)\, using both classical and 
 modern interactive educational tools.
X-MICROSOFT-CDO-ALLDAYEVENT:TRUE
DTSTAMP:20260422T050739Z
END:VEVENT
END:VCALENDAR