BEGIN:VCALENDAR
VERSION:2.0
PRODID:$page->getSiteName()
X-PUBLISHED-TTL:P1W
BEGIN:VEVENT
UID:69e83fd7d9d05
DTSTART;VALUE=DATE:20180418
SEQUENCE:0
TRANSP:OPAQUE
URL:https://www.iislafe.es/es/sociedad/eventos/141/que-tramites-necesito-re
 alizar-antes-de-poner-en-marcha-un-estudio-clinico
LOCATION:Sala 3
SUMMARY:¿Qué trámites necesito realizar antes de poner en marcha un estu
 dio clínico?
CLASS:PUBLIC
DESCRIPTION:Miercoles Innovadores: ¿Qué trámites necesito realizar ante
 s de poner en marcha un estudio clínico?

Ponente: María Cortell. Resp
 onsable del Área de Investigación Clínica del IIS La Fe

Inscripciones 
 en este enlace 
X-MICROSOFT-CDO-ALLDAYEVENT:TRUE
DTSTAMP:20260422T052615Z
END:VEVENT
END:VCALENDAR