BEGIN:VCALENDAR
VERSION:2.0
PRODID:$page->getSiteName()
X-PUBLISHED-TTL:P1W
BEGIN:VEVENT
UID:69e83a94b9672
DTSTART;VALUE=DATE:20180425
SEQUENCE:0
TRANSP:OPAQUE
URL:https://www.iislafe.es/es/sociedad/eventos/142/cancer-de-colon-wnt-vita
 mina-d-y-organoides
LOCATION:Auditórium
SUMMARY:Cáncer de colon: wnt\, vitamina D y organoides
CLASS:PUBLIC
DESCRIPTION:Conferencia del Profesor Dr. Alberto Muñoz Terol

Instituto d
 e Investigaciones Biomédicas \"Alberto Sols\" CSIC-UAM Madrid
Premio Rey 
 Jaime I a la Investigación

Inscricpiones\, en este enlace.
X-MICROSOFT-CDO-ALLDAYEVENT:TRUE
DTSTAMP:20260422T050348Z
END:VEVENT
END:VCALENDAR