BEGIN:VCALENDAR
VERSION:2.0
PRODID:$page->getSiteName()
X-PUBLISHED-TTL:P1W
BEGIN:VEVENT
UID:69ed23f6adc84
DTSTART;VALUE=DATE:20180502
SEQUENCE:0
TRANSP:OPAQUE
URL:https://www.iislafe.es/es/sociedad/eventos/151/jornada-dia-mundial-del-
 asma
LOCATION:Auditorium de la planta baja de la torre A
SUMMARY:Jornada Día MundiaL del Asma
CLASS:PUBLIC
DESCRIPTION:Con motivo del Día Mundial de Asma\, la Jefa de Servicio de Ne
 umología\, Dra. Rosario Menendez\, celebra una jornada dedicada a la iden
 tificación precoz del Asma\, la Guia GEMA y las ultimas novedades en el t
 ratamiento de la enfermedad. En la segunda parte de la jornada\, se ha org
 anizado una mesa redonda multidisciplinar donde los pacientes podran preg
 untar a los ponentes. 
X-MICROSOFT-CDO-ALLDAYEVENT:TRUE
DTSTAMP:20260425T222838Z
END:VEVENT
END:VCALENDAR