BEGIN:VCALENDAR
VERSION:2.0
PRODID:$page->getSiteName()
X-PUBLISHED-TTL:P1W
BEGIN:VEVENT
UID:69eb8f3eb86cc
DTSTART;VALUE=DATE:20180928
SEQUENCE:0
TRANSP:OPAQUE
URL:https://www.iislafe.es/es/sociedad/eventos/179/acto-cientifico-e-instit
 ucional-de-homenaje-al-doctor-miguel-angel-sanz-alonso
LOCATION:Salón de Actos del Hospital Universitario y Politécnico La Fe
SUMMARY:Acto científico e institucional de homenaje al doctor Miguel Ánge
 l Sanz Alonso
CLASS:PUBLIC
DESCRIPTION:Con motivo de su jubilación oficial como médico y en reconoci
 miento por la labor realizada en su dilatada actividad profesional en nues
 tra institución.
X-MICROSOFT-CDO-ALLDAYEVENT:TRUE
DTSTAMP:20260424T174150Z
END:VEVENT
END:VCALENDAR