BEGIN:VCALENDAR
VERSION:2.0
PRODID:$page->getSiteName()
X-PUBLISHED-TTL:P1W
BEGIN:VEVENT
UID:69e6629201985
DTSTART;VALUE=DATE:20190426
SEQUENCE:0
TRANSP:OPAQUE
URL:https://www.iislafe.es/es/sociedad/eventos/217/sesiones-formativas-para
 -tecnicos-de-laboratorio
LOCATION:Auditorium de la planta baja de la torre A
SUMMARY:Sesiones formativas para técnicos de laboratorio
CLASS:PUBLIC
DESCRIPTION:Biobanco en Hematología

Formación dirigida a los técnicos d
 e laboratorio de Hematología\, Biología\, Molecular y Genética. 

Orga
 niza: Unidad de Diagnóstico Hematológico.

Plazas limitadas
X-MICROSOFT-CDO-ALLDAYEVENT:TRUE
DTSTAMP:20260420T192954Z
END:VEVENT
END:VCALENDAR