BEGIN:VCALENDAR
VERSION:2.0
PRODID:$page->getSiteName()
X-PUBLISHED-TTL:P1W
BEGIN:VEVENT
UID:69e9ab05aacd6
DTSTART;VALUE=DATE:20200211
SEQUENCE:0
TRANSP:OPAQUE
URL:https://www.iislafe.es/es/sociedad/eventos/297/high-throughput-strategi
 es-for-molecular-diagnosis-of-nonsyndromic-inherited-retinal-dystrophies
LOCATION:Auditorium de la planta baja de la torre A
SUMMARY:High-throughput strategies for molecular diagnosis of nonsyndromic 
 inherited retinal dystrophies
CLASS:PUBLIC
DESCRIPTION:Ana Rodríguez Muñoz

Grupo de Biomedicina Molecular \, Celula
 r y Genómica 
X-MICROSOFT-CDO-ALLDAYEVENT:TRUE
DTSTAMP:20260423T071549Z
END:VEVENT
END:VCALENDAR