BEGIN:VCALENDAR
VERSION:2.0
PRODID:$page->getSiteName()
X-PUBLISHED-TTL:P1W
BEGIN:VEVENT
UID:69e6117ac4823
DTSTART;VALUE=DATE:20200929
SEQUENCE:0
TRANSP:OPAQUE
URL:https://www.iislafe.es/es/sociedad/eventos/306/jornada-de-presentacion-
 de-la-convocatoria-de-subvenciones-para-la-infraestructura-impact-de-medic
 ina-de-precision
LOCATION:Online
SUMMARY:Jornada de Presentación de la Convocatoria de subvenciones para la
  Infraestructura IMPaCT de Medicina de Precisión
CLASS:PUBLIC
DESCRIPTION:​El ISCIII organiza una Jornada de Presentación de la Convo
 catoria de subvenciones para la Infraestructura IMPaCT de Medicina de Prec
 isión\, que se retransmitirá online desde la Escuela Nacional de Sanidad
  este miércoles entre las 11:30 y las 13:30.

- Se puede seguir en direct
 o y en abierto desde el canal de Youtube del ISCIII: https://youtu.be/Tv1
 kZlq7jJ8 

- Se pueden enviar preguntas\, que serán respondidas en la jo
 rnada\, a través de este correo electrónico: impact20.comunicacion@iscii
 i.es.
X-MICROSOFT-CDO-ALLDAYEVENT:TRUE
DTSTAMP:20260420T134354Z
END:VEVENT
END:VCALENDAR