BEGIN:VCALENDAR
VERSION:2.0
PRODID:$page->getSiteName()
X-PUBLISHED-TTL:P1W
BEGIN:VEVENT
UID:69ecbe2c82edb
DTSTART;VALUE=DATE:20201013
SEQUENCE:0
TRANSP:OPAQUE
URL:https://www.iislafe.es/es/sociedad/eventos/307/jornada-inmuno-radiotera
 pia
LOCATION:Online
SUMMARY:Jornada Inmuno - Radioterapia
CLASS:PUBLIC
DESCRIPTION:Jornada organizada por Genetica\, Grupo Español Inmuno Biológ
 icas en Cáncer
X-MICROSOFT-CDO-ALLDAYEVENT:TRUE
DTSTAMP:20260425T151420Z
END:VEVENT
END:VCALENDAR