BEGIN:VCALENDAR
VERSION:2.0
PRODID:$page->getSiteName()
X-PUBLISHED-TTL:P1W
BEGIN:VEVENT
UID:69e9392609f23
DTSTART;VALUE=DATE:20210324
SEQUENCE:0
TRANSP:OPAQUE
URL:https://www.iislafe.es/es/sociedad/eventos/312/stop-fuga-de-cerebros-la
 -investigacion-biomedica-en-la-comunidad-valenciana
LOCATION:Online
SUMMARY:Stop Fuga de Cerebros: la investigación biomédica en la Comunidad
  Valenciana
CLASS:PUBLIC
DESCRIPTION:La web del diario Levante-EMV acogerá el próximo 24 de marz
 o\, a las 13 horas\, un debate virtual centrado en el presente y en los de
 safíos de futuro de la investigación biomédica en la Comunitat Valenc
 iana. El encuentro contará con la participación de la consellera de Sani
 dad Universal y Salud Pública de la Comunitat Valenciana\, Ana Barceló\
 ; el director general de Investigación y Alta Inspección Sanitaria de la
  Conselleria de Sanidad Universal y Salud Pública\, Javier Burgos\; el d
 irector científico del Instituto de Investigación Sanitaria de La Fe (II
 S La Fe)\, Máximo Vento\; el investigador de IIS La Fe Joaquim Calvo Le
 rma y Gemma Palacios\, Medical Collaborations & Operations Expert de la 
 compañía farmacéutica Roche Farma.

El evento podrá seguirse en este e
 nlace.

Para seguir el acto y plantear preguntas en el char\, inscríbete 
 en el código QR que encontrarás en este enlace.
X-MICROSOFT-CDO-ALLDAYEVENT:TRUE
DTSTAMP:20260422T230958Z
END:VEVENT
END:VCALENDAR