BEGIN:VCALENDAR
VERSION:2.0
PRODID:$page->getSiteName()
X-PUBLISHED-TTL:P1W
BEGIN:VEVENT
UID:69e8edcb5ef47
DTSTART;VALUE=DATE:20210430
SEQUENCE:0
TRANSP:OPAQUE
URL:https://www.iislafe.es/es/sociedad/eventos/316/3d-culture-of-multiple-m
 yeloma-cell-line-using-microgel-enviroments
LOCATION:Online
SUMMARY:3D culture of multiple myeloma cell line using microgel enviroments
CLASS:PUBLIC
DESCRIPTION:PhD Student: Juan Carlos Marin Payá
Director: José Luís Góm
 ez Ribelles\; Amparo Sempere Talens
Doctoral programme: PhD in Biotechnolo
 gy

Join the event here
X-MICROSOFT-CDO-ALLDAYEVENT:TRUE
DTSTAMP:20260422T174827Z
END:VEVENT
END:VCALENDAR