BEGIN:VCALENDAR
VERSION:2.0
PRODID:$page->getSiteName()
X-PUBLISHED-TTL:P1W
BEGIN:VEVENT
UID:69e8c4b8d7a9c
DTSTART;VALUE=DATE:20210531
SEQUENCE:0
TRANSP:OPAQUE
URL:https://www.iislafe.es/es/sociedad/eventos/317/procesamiento-emocional-
 en-el-sindrome-esquizofrenico
LOCATION:Auditorium/Online
SUMMARY:Procesamiento emocional en el síndrome esquizofrénico
CLASS:PUBLIC
DESCRIPTION:Doctorando: Pablo Navalón Rodríguez.

Directoras: Dra. Ana Ga
 rcía-Blanco\, Dra. Pilar Sierra San Miguel.

Enlace para seguir la sesió
 n: 



Meet






X-MICROSOFT-CDO-ALLDAYEVENT:TRUE
DTSTAMP:20260422T145312Z
END:VEVENT
END:VCALENDAR