BEGIN:VCALENDAR
VERSION:2.0
PRODID:$page->getSiteName()
X-PUBLISHED-TTL:P1W
BEGIN:VEVENT
UID:69e5a7ce9c795
DTSTART;VALUE=DATE:20211110
SEQUENCE:0
TRANSP:OPAQUE
DTEND;VALUE=DATE:20211111
URL:https://www.iislafe.es/es/sociedad/eventos/321/miercoles-innovadores-co
 mo-poner-en-marcha-un-estudio-con-producto-sanitario-o-de-diagnostico-in-v
 itro-en-investigacion-10-y-11-de-noviembre
LOCATION:Teams
SUMMARY:Miércoles innovadores: Cómo poner en marcha un estudio con produc
 to sanitario o de diagnóstico in vitro en investigación (10 y 11 de novi
 embre)
CLASS:PUBLIC
DESCRIPTION:INSCRIPCIÓN
X-MICROSOFT-CDO-ALLDAYEVENT:TRUE
DTSTAMP:20260420T061302Z
END:VEVENT
END:VCALENDAR