BEGIN:VCALENDAR
VERSION:2.0
PRODID:$page->getSiteName()
X-PUBLISHED-TTL:P1W
BEGIN:VEVENT
UID:69e580f745a62
DTSTART;VALUE=DATE:20211025
SEQUENCE:0
TRANSP:OPAQUE
DTEND;VALUE=DATE:20211028
URL:https://www.iislafe.es/es/sociedad/eventos/328/cuenta-ciencia-formacion
 -en-comunicacion-y-divulgacion-del-25-al-28-de-octubre
LOCATION:Classroom
SUMMARY:CUENTA CIENCIA\, formación en comunicación y divulgación (del 25
  al 28 de octubre)
CLASS:PUBLIC
X-MICROSOFT-CDO-ALLDAYEVENT:TRUE
DTSTAMP:20260420T032719Z
END:VEVENT
END:VCALENDAR