BEGIN:VCALENDAR
VERSION:2.0
PRODID:$page->getSiteName()
X-PUBLISHED-TTL:P1W
BEGIN:VEVENT
UID:69e57bab6898a
DTSTART;VALUE=DATE:20211213
SEQUENCE:0
TRANSP:OPAQUE
DTEND;VALUE=DATE:20211216
URL:https://www.iislafe.es/es/sociedad/eventos/329/cuenta-ciencia-formacion
 -en-comunicacion-y-divulgacion-del-13-al-16-de-diciembre
LOCATION:Classroom
SUMMARY:CUENTA CIENCIA\, formación en comunicación y divulgación (Del 13
  al 16 de diciembre)
CLASS:PUBLIC
X-MICROSOFT-CDO-ALLDAYEVENT:TRUE
DTSTAMP:20260420T030443Z
END:VEVENT
END:VCALENDAR