BEGIN:VCALENDAR
VERSION:2.0
PRODID:$page->getSiteName()
X-PUBLISHED-TTL:P1W
BEGIN:VEVENT
UID:69e5e4a4b2f7d
DTSTART;VALUE=DATE:20220304
SEQUENCE:0
TRANSP:OPAQUE
URL:https://www.iislafe.es/es/sociedad/eventos/340/investigacion-de-la-leuc
 emia-mieloide-aguda-mediante-el-desarrollo-de-modelos-in-vitro-e-in-vivo
LOCATION:Auditórium
SUMMARY:Investigación de la leucemia mieloide aguda mediante el desarrollo
  de modelos in vitro e in vivo
CLASS:PUBLIC
DESCRIPTION:Doctoranda: Elisa González Romero. Grupo de investigación en 
 Hematología y Hemoterapia del IIS La Fe.

Directores: Dr. Rafael Vázquez
 \, Dr. José Cervera\, Dr. Miguel Ángel Sanz.
X-MICROSOFT-CDO-ALLDAYEVENT:TRUE
DTSTAMP:20260420T103236Z
END:VEVENT
END:VCALENDAR