BEGIN:VCALENDAR
VERSION:2.0
PRODID:$page->getSiteName()
X-PUBLISHED-TTL:P1W
BEGIN:VEVENT
UID:69e64ce0903a3
DTSTART;VALUE=DATE:20220603
SEQUENCE:0
TRANSP:OPAQUE
URL:https://www.iislafe.es/es/sociedad/eventos/350/seminario-simoa-sr-xttm
LOCATION:Classroom
SUMMARY:Seminario Simoa® SR-XTtm
CLASS:PUBLIC
DESCRIPTION:Seminario sobre la tecnología Simoa®\, una plataforma ultras
 ensible que permite detectar biomarcadores en el rango fg/mL. 
X-MICROSOFT-CDO-ALLDAYEVENT:TRUE
DTSTAMP:20260420T175720Z
END:VEVENT
END:VCALENDAR