BEGIN:VCALENDAR
VERSION:2.0
PRODID:$page->getSiteName()
X-PUBLISHED-TTL:P1W
BEGIN:VEVENT
UID:69e64de88897c
DTSTART;VALUE=DATE:20220629
SEQUENCE:0
TRANSP:OPAQUE
URL:https://www.iislafe.es/es/sociedad/eventos/351/las-icts-disrupcion-en-i
 magen-medica-al-alcance-de-todos
LOCATION:Auditórium
SUMMARY:Las ICTS: Disrupción en Imagen Médica al alcance de todos
CLASS:PUBLIC
DESCRIPTION:Con motivo de la semana de las administraciones públicas abier
 tas\, el Grupo de Investigación Biomédica en Imagen (GIBI230) organiza l
 a jornada informativa \"Las ICTS: Disrupción en Imagen Médica al alcanc
 e de todos\" donde se presentará la Infraestructura Científico-Técnica
  Singular gestionada por el Grupo de Investigación Biomédica en Imagen (
 GIBI230)\, así como las infraestructuras de investigación y experimentac
 ión (adquisición\, análisis y computación) de las que se disponen y su
 s aplicaciones dentro de las diferentes líneas de trabajo.

Para realizar
  la inscripción a la jornada\, sólo tienes que pinchar este enlace. Es 
 importante marcar si se va a seguir el evento de manera presencial o en l
 ínea a través de este link ya que el aforo está limitado a 70 plazas 
 así como si se desea realizar la visita guiada para poder hacer una corr
 ecta planificación.
X-MICROSOFT-CDO-ALLDAYEVENT:TRUE
DTSTAMP:20260420T180144Z
END:VEVENT
END:VCALENDAR