BEGIN:VCALENDAR
VERSION:2.0
PRODID:$page->getSiteName()
X-PUBLISHED-TTL:P1W
BEGIN:VEVENT
UID:69eab4fa8c426
DTSTART;VALUE=DATE:20220930
SEQUENCE:0
TRANSP:OPAQUE
URL:https://www.iislafe.es/es/sociedad/eventos/355/auditoria-presencial-par
 a-la-evaluacion-del-sello-hr-excellence-in-research-del-iis-la-fe
LOCATION:IIS La Fe
SUMMARY:Auditoria presencial para la evaluación del sello HR Excellence in
  Research del IIS La Fe
CLASS:PUBLIC
DESCRIPTION:El 30 de septiembre tendrá lugar la visita in situ del equipo 
 evaluador que se reunirá con la dirección del IIS La Fe y con personal d
 el instituto para valor el nivel de conocimiento sobre el sello HRS4R. Má
 s información\, en este enlace.
X-MICROSOFT-CDO-ALLDAYEVENT:TRUE
DTSTAMP:20260424T021034Z
END:VEVENT
END:VCALENDAR