BEGIN:VCALENDAR
VERSION:2.0
PRODID:$page->getSiteName()
X-PUBLISHED-TTL:P1W
BEGIN:VEVENT
UID:69ec2d44545db
DTSTART;VALUE=DATE:20221221
SEQUENCE:0
TRANSP:OPAQUE
URL:https://www.iislafe.es/es/sociedad/eventos/379/miercoles-innovadores-in
 ternacionalizando-desde-la-fe
LOCATION:Online
SUMMARY:MIÉRCOLES INNOVADORES. Internacionalizando desde La Fe
CLASS:PUBLIC
X-MICROSOFT-CDO-ALLDAYEVENT:TRUE
DTSTAMP:20260425T045604Z
END:VEVENT
END:VCALENDAR